BEGIN:VCALENDAR
VERSION:2.0
PRODID:-//Asociación Mexicana de Terapeutas en Comunicación Humana A. C. - ECPv6.3.3//NONSGML v1.0//EN
CALSCALE:GREGORIAN
METHOD:PUBLISH
X-WR-CALNAME:Asociación Mexicana de Terapeutas en Comunicación Humana A. C.
X-ORIGINAL-URL:https://amtch.org
X-WR-CALDESC:Eventos para Asociación Mexicana de Terapeutas en Comunicación Humana A. C.
REFRESH-INTERVAL;VALUE=DURATION:PT1H
X-Robots-Tag:noindex
X-PUBLISHED-TTL:PT1H
BEGIN:VTIMEZONE
TZID:America/Mexico_City
BEGIN:DAYLIGHT
TZOFFSETFROM:-0600
TZOFFSETTO:-0500
TZNAME:CDT
DTSTART:20220403T080000
END:DAYLIGHT
BEGIN:STANDARD
TZOFFSETFROM:-0500
TZOFFSETTO:-0600
TZNAME:CST
DTSTART:20221030T070000
END:STANDARD
END:VTIMEZONE
BEGIN:VEVENT
DTSTART;TZID=America/Mexico_City:20220217T200000
DTEND;TZID=America/Mexico_City:20220217T220000
DTSTAMP:20260420T014913
CREATED:20220205T174913Z
LAST-MODIFIED:20220211T011740Z
UID:740-1645128000-1645135200@amtch.org
SUMMARY:Metodologías o Enfoques de Rehabilitación en el Paciente con Pérdida Auditiva
DESCRIPTION:  \n \nInfo contactoamtch@gmail.com
URL:https://amtch.org/event/metodologias-o-enfoques-de-rehabilitacion-en-el-paciente-con-perdida-auditiva/
LOCATION:AMTCH
CATEGORIES:Webinar
ORGANIZER;CN="Asociaci%C3%B3n Mexicana de Terapeutas en Comunicaci%C3%B3n Humana A. C.":MAILTO:contactoamtch@gmail.com
END:VEVENT
END:VCALENDAR